BEGIN:VCALENDAR
VERSION:2.0
PRODID:-//Oberpfälzer Kulturbund e.V. - ECPv6.15.15//NONSGML v1.0//EN
CALSCALE:GREGORIAN
METHOD:PUBLISH
X-WR-CALNAME:Oberpfälzer Kulturbund e.V.
X-ORIGINAL-URL:https://oberpfaelzerkulturbund.de
X-WR-CALDESC:Veranstaltungen für Oberpfälzer Kulturbund e.V.
REFRESH-INTERVAL;VALUE=DURATION:PT1H
X-Robots-Tag:noindex
X-PUBLISHED-TTL:PT1H
BEGIN:VTIMEZONE
TZID:Europe/Berlin
BEGIN:DAYLIGHT
TZOFFSETFROM:+0100
TZOFFSETTO:+0200
TZNAME:CEST
DTSTART:20220327T010000
END:DAYLIGHT
BEGIN:STANDARD
TZOFFSETFROM:+0200
TZOFFSETTO:+0100
TZNAME:CET
DTSTART:20221030T010000
END:STANDARD
BEGIN:DAYLIGHT
TZOFFSETFROM:+0100
TZOFFSETTO:+0200
TZNAME:CEST
DTSTART:20230326T010000
END:DAYLIGHT
BEGIN:STANDARD
TZOFFSETFROM:+0200
TZOFFSETTO:+0100
TZNAME:CET
DTSTART:20231029T010000
END:STANDARD
BEGIN:DAYLIGHT
TZOFFSETFROM:+0100
TZOFFSETTO:+0200
TZNAME:CEST
DTSTART:20240331T010000
END:DAYLIGHT
BEGIN:STANDARD
TZOFFSETFROM:+0200
TZOFFSETTO:+0100
TZNAME:CET
DTSTART:20241027T010000
END:STANDARD
END:VTIMEZONE
BEGIN:VEVENT
DTSTART;VALUE=DATE:20230623
DTEND;VALUE=DATE:20230626
DTSTAMP:20260423T214203
CREATED:20220112T133646Z
LAST-MODIFIED:20230420T090034Z
UID:5008-1687478400-1687737599@oberpfaelzerkulturbund.de
SUMMARY:Oberpfälzer Kulturtage
DESCRIPTION:Im Turnus von zwei Jahren veranstaltet der Oberpfälzer Kulturbund gemeinsam mit einer Gemeinde die Oberpfälzer Kulturtage. Vom 23. bis 25 Juni 2023 findet die Veranstaltung in Bad Kötzting statt. \nWir wollen mit dieser Veranstaltung Tradition und Brauchtum\, Kunst und Literatur\, Baugeschichte\, Kulinarisches sowie Land und Leute der Oberpfalz vorstellen und feiern. \nBK_Infoflyer_Oberpfalztag_V2_2023_Web \n  \nMotiv: Philip Koeppelle \n 
URL:https://oberpfaelzerkulturbund.de/veranstaltung/oberpfaelzer-kulturtage/
LOCATION:Bad Kötzting\, Bad Kötzting\, Bayern\, 93444\, Deutschland
CATEGORIES:Oberpfälzer Kulturtage
ATTACH;FMTTYPE=image/jpeg:https://oberpfaelzerkulturbund.de/wp-content/uploads/2023/04/0001-2.jpg
ORGANIZER;CN="Oberpf%C3%A4lzer Kulturbund e.V.":MAILTO:info@oberpfaelzer-kulturbund.de
END:VEVENT
END:VCALENDAR