BEGIN:VCALENDAR
VERSION:2.0
PRODID:-//Oberpfälzer Kulturbund e.V. - ECPv6.15.15//NONSGML v1.0//EN
CALSCALE:GREGORIAN
METHOD:PUBLISH
X-WR-CALNAME:Oberpfälzer Kulturbund e.V.
X-ORIGINAL-URL:https://oberpfaelzerkulturbund.de
X-WR-CALDESC:Veranstaltungen für Oberpfälzer Kulturbund e.V.
REFRESH-INTERVAL;VALUE=DURATION:PT1H
X-Robots-Tag:noindex
X-PUBLISHED-TTL:PT1H
BEGIN:VTIMEZONE
TZID:Europe/Berlin
BEGIN:DAYLIGHT
TZOFFSETFROM:+0100
TZOFFSETTO:+0200
TZNAME:CEST
DTSTART:20250330T010000
END:DAYLIGHT
BEGIN:STANDARD
TZOFFSETFROM:+0200
TZOFFSETTO:+0100
TZNAME:CET
DTSTART:20251026T010000
END:STANDARD
BEGIN:DAYLIGHT
TZOFFSETFROM:+0100
TZOFFSETTO:+0200
TZNAME:CEST
DTSTART:20260329T010000
END:DAYLIGHT
BEGIN:STANDARD
TZOFFSETFROM:+0200
TZOFFSETTO:+0100
TZNAME:CET
DTSTART:20261025T010000
END:STANDARD
BEGIN:DAYLIGHT
TZOFFSETFROM:+0100
TZOFFSETTO:+0200
TZNAME:CEST
DTSTART:20270328T010000
END:DAYLIGHT
BEGIN:STANDARD
TZOFFSETFROM:+0200
TZOFFSETTO:+0100
TZNAME:CET
DTSTART:20271031T010000
END:STANDARD
END:VTIMEZONE
BEGIN:VEVENT
DTSTART;VALUE=DATE:20260716
DTEND;VALUE=DATE:20260720
DTSTAMP:20260422T131829
CREATED:20240926T100854Z
LAST-MODIFIED:20250310T075041Z
UID:5888-1784160000-1784505599@oberpfaelzerkulturbund.de
SUMMARY:Kulturfest der Oberpfälzer - 45. Nordgautag 2026 in Roding
DESCRIPTION:Unser nächster Nordgautag steht schon fest! 2026 feiern wir das 46. Mal den Nordgautag – das Kulturfest der Oberpfälzer in der schönen Stadt Roding. \n 
URL:https://oberpfaelzerkulturbund.de/veranstaltung/kulturfest-der-oberpfaelzer-45-nordgautag-2026-in-roding/
LOCATION:Stadt Roding\, Bayern\, 93426\, Deutschland
CATEGORIES:Bayerischer Nordgautag,Kulturfest der Oberpfälzer
ORGANIZER;CN="Oberpf%C3%A4lzer Kulturbund e.V.":MAILTO:info@oberpfaelzer-kulturbund.de
END:VEVENT
BEGIN:VEVENT
DTSTART;TZID=Europe/Berlin:20261121T180000
DTEND;TZID=Europe/Berlin:20261121T220000
DTSTAMP:20260422T131829
CREATED:20260402T083300Z
LAST-MODIFIED:20260402T083300Z
UID:6093-1795284000-1795298400@oberpfaelzerkulturbund.de
SUMMARY:50. Schwarzenfelder Sänger- und Musikantentreffen
DESCRIPTION:Jubiläumsausgabe inkl. Radioaufzeichnung durch BR Heimat! Ein Gute-Laune-Abend der Extraklasse von und mit dem Weber Bene! \nKartenvorverkauf ab 01.04.2026 9 Uhr ausschließlich online auf okticket.de. Ab 13.04.2026 dann auch per Tickethotline 09435 309222! \nDas Schwarzenfelder Sänger- und Musikantentreffen – dieses Jahr in seiner 50. Auflage – ist ein wahrer Publikumsmagnet! Es erwartet Sie beste musikalische und humoristische Unterhaltung von und mit dem Gstanzlsänger\, Musikanten und Humoristen Bene Weber sowie tollen Gästen. Dieses Jahr mit De zwoa Schneidign\, bekannt aus BR Brettl-Spitzen\, Mausi und Herr Dietz\, Hollastaun Brass\, Trio Saitenweis und den Lokalmatadoren von der Musikkapelle Schwarzenfeld. Der Bayerische Rundfunk ist mit vor Ort und zeichnet den Abend für eine Radiosendung auf. \nDer Oberpfälzer Kulturbund e.V. und seine Veranstaltungen werden gefördert durch den Bezirk Oberpfalz und das Bayerische Staatsministerium der Finanzen und für Heimat. Mit freundlicher Unterstützung der Privatmolkerei Bechtel. Die Veranstaltung ist Teil von MIT’NAND – Die Schwarzenfelder Kulturwochen 2026.
URL:https://oberpfaelzerkulturbund.de/veranstaltung/50-schwarzenfelder-saenger-und-musikantentreffen/
LOCATION:Restaurant Miesberg\, Klosterstraße 4\, Schwarzenfeld\, Bayern\, 92521\, Deutschland
END:VEVENT
END:VCALENDAR